BEGIN:VCALENDAR
VERSION:2.0
PRODID:-//wp-events-plugin.com//7.2.3.1//EN
TZID:America/Toronto
X-WR-TIMEZONE:America/Toronto
BEGIN:VEVENT
UID:22@lprca.on.ca
DTSTART;TZID=America/Toronto:20260912T100000
DTEND;TZID=America/Toronto:20260913T160000
DTSTAMP:20260401T153636Z
URL:https://www.lprca.on.ca/events/war-of-1812-re-enactment-3/
SUMMARY:War of 1812 Re-enactment
DESCRIPTION:Join more than 200 soldiers and settlers as they set up camp fo
 r the annual War of 1812 Re-enactment. Each year on the weekend following 
 Labour Day\, historical re-enactors converge on Backus Heritage Conservati
 on Area for what many people view as the highlight of the year – the War
  of 1812 Re-enactment.\n\nBattle demonstrations will take place on Saturda
 y &amp\; Sunday.\n\nActivities include:\n\n 	\n\n 	battle re-enactments\n 
 	military and civilian encampments\n 	cannon and musket firing demonstrati
 ons\n 	children's militia\n 	Sutler’s Row vendors\n 	historic cooking de
 monstrations\n 	historic presentations\n 	weaving and spinning demonstrati
 ons from the Norfolk Fibre Arts Guild weavers\, products will be available
  for purchase (September 12th &amp\; 13th\, 10:00 am – 4:00 pm)\n 	perio
 d demonstrations and activities in Backhouse Historic Site\n\n\n\nClick He
 re for Re-Enactor Registration\n\nClick Here for Merchant Registration
ATTACH;FMTTYPE=image/jpeg:https://www.lprca.on.ca/wp-content/uploads/2024/
 04/war-of-1812.png
LOCATION:Backus Heritage Conservation Area\, 1267 Second Concession Road\, 
 Port Rowan\, Ontario\, Canada
X-APPLE-STRUCTURED-LOCATION;VALUE=URI;X-ADDRESS=1267 Second Concession Road
 \, Port Rowan\, Ontario\, Canada;X-APPLE-RADIUS=100;X-TITLE=Backus Heritag
 e Conservation Area:geo:0,0
END:VEVENT
BEGIN:VTIMEZONE
TZID:America/Toronto
X-LIC-LOCATION:America/Toronto
BEGIN:DAYLIGHT
DTSTART:20260308T030000
TZOFFSETFROM:-0500
TZOFFSETTO:-0400
TZNAME:EDT
END:DAYLIGHT
END:VTIMEZONE
END:VCALENDAR